BEGIN:VCALENDAR
VERSION:2.0
PRODID:-//Ancient Path Revivals - ECPv6.15.14//NONSGML v1.0//EN
CALSCALE:GREGORIAN
METHOD:PUBLISH
X-WR-CALNAME:Ancient Path Revivals
X-ORIGINAL-URL:https://ancientpathrevivals.com
X-WR-CALDESC:Events for Ancient Path Revivals
REFRESH-INTERVAL;VALUE=DURATION:PT1H
X-Robots-Tag:noindex
X-PUBLISHED-TTL:PT1H
BEGIN:VTIMEZONE
TZID:America/Chicago
BEGIN:DAYLIGHT
TZOFFSETFROM:-0600
TZOFFSETTO:-0500
TZNAME:CDT
DTSTART:20240310T080000
END:DAYLIGHT
BEGIN:STANDARD
TZOFFSETFROM:-0500
TZOFFSETTO:-0600
TZNAME:CST
DTSTART:20241103T070000
END:STANDARD
BEGIN:DAYLIGHT
TZOFFSETFROM:-0600
TZOFFSETTO:-0500
TZNAME:CDT
DTSTART:20250309T080000
END:DAYLIGHT
BEGIN:STANDARD
TZOFFSETFROM:-0500
TZOFFSETTO:-0600
TZNAME:CST
DTSTART:20251102T070000
END:STANDARD
BEGIN:DAYLIGHT
TZOFFSETFROM:-0600
TZOFFSETTO:-0500
TZNAME:CDT
DTSTART:20260308T080000
END:DAYLIGHT
BEGIN:STANDARD
TZOFFSETFROM:-0500
TZOFFSETTO:-0600
TZNAME:CST
DTSTART:20261101T070000
END:STANDARD
BEGIN:DAYLIGHT
TZOFFSETFROM:-0600
TZOFFSETTO:-0500
TZNAME:CDT
DTSTART:20270314T080000
END:DAYLIGHT
BEGIN:STANDARD
TZOFFSETFROM:-0500
TZOFFSETTO:-0600
TZNAME:CST
DTSTART:20271107T070000
END:STANDARD
END:VTIMEZONE
BEGIN:VEVENT
DTSTART;TZID=America/Chicago:20260501T100000
DTEND;TZID=America/Chicago:20260510T170000
DTSTAMP:20260421T153703
CREATED:20260130T160700Z
LAST-MODIFIED:20260407T225137Z
UID:3585-1777629600-1778432400@ancientpathrevivals.com
SUMMARY:Passover // Feast of Unleavened Bread 2026
DESCRIPTION:Passover will be observed the evening of May 2\, according to the calendar we follow\, which includes a 13th month this year. The Feast of Unleavened Bread continues through May 9. \n\n\n\nCamping check-in begins May 1\, with check-out on May 10. \n\n\n\nMAKE SURE TO SELECT A SEPARATE CAMPING/LODGING TICKET OPTION IF YOU ARE CAMPING. \n\n\n\nFull-week admission includes all meals\, firewood\, and event admission for the entire week. Day visitors are free. Camping is an additional cost. \n\n\n\nThose attending only the Passover meal are still asked to register\, as there are real costs involved in preparing and hosting the meal. \n\n\n\nDiscounted or waived tickets are always available for those in need. If you require assistance\, please reach out to us at info@ancientpathrevivals.com. We are glad to help and want this gathering to be accessible. \n\n\n\n\n\n\n\n\n\n\n\n\n\n\n\n\n\n\n\n\n\n\n\n\n\n\n\n\n\n\n\n\n\n\n\n\n\n\n\n\n\n\n\n\n\n\n\n\n\n\n\n\n\n \n\n\n\n\n\nPassover T-Shirts \n\n\n\nOrder Now!\n\n\n\nPassover shirts are available for order from Sanctified Supply Co. Receive a discount by using this link! \n\n\n\n\nI like discounts\n\n\n\n\n\n\n\n\n\n\n\n\n\n\n\n\n\n\nWant to Help Us Prepare For the Feasts?\n\n\n\nThere are many tangible items we always need more of that help us better host these feast days such as paper goods\, groceries\, supplies\, tools\, equipment\, and more! The following list includes some of those items as well as other miscellaneous needs for the community. \n\n\n\n\ndonate physical items
URL:https://ancientpathrevivals.com/event/passover-feast-of-unleavened-bread-2026/
CATEGORIES:YHWH's Feast Days
ATTACH;FMTTYPE=image/jpeg:https://ancientpathrevivals.com/wp-content/uploads/2026/01/ChatGPT-Image-Jan-19-2026-at-02_58_57-PM-2.jpeg
END:VEVENT
BEGIN:VEVENT
DTSTART;TZID=America/Chicago:20260119T173000
DTEND;TZID=America/Chicago:20260119T200000
DTSTAMP:20260421T153703
CREATED:20260113T193957Z
LAST-MODIFIED:20260113T193958Z
UID:3508-1768843800-1768852800@ancientpathrevivals.com
SUMMARY:New Moon Gathering
DESCRIPTION:New Moon Gathering – Worship & Dance PartyOneg/Potluck dinner
URL:https://ancientpathrevivals.com/event/new-moon-gathering/
LOCATION:Ancient Path Fellowship\, 4099 Cravens Dr\, Macomb\, Missouri\, 65702\, United States
END:VEVENT
BEGIN:VEVENT
DTSTART;TZID=America/Chicago:20260102T110000
DTEND;TZID=America/Chicago:20260102T190000
DTSTAMP:20260421T153703
CREATED:20251104T034935Z
LAST-MODIFIED:20251228T212302Z
UID:3431-1767351600-1767380400@ancientpathrevivals.com
SUMMARY:Downtown Springfield Outreach & Worship
DESCRIPTION:Join us on the downtown square in Springfield for a day of worship\, community\, and service. We will gather to lift up praise\, share the love of Messiah\, and serve those in need right in the heart of our city. \n\n\n\nThis will be a full day of worship music\, prayer\, Scripture\, and fellowship. Our desire is to be a light in our community and to reflect the heart of Yahusha by serving the hungry and the hurting. Free food will be provided for anyone in need\, and all are welcome. \n\n\n\nWhether you come to worship\, volunteer\, receive a meal\, or simply connect with others\, we invite you to be part of this day of unity and compassion. \n\n\n\nCome as you are. Bring a friend. Let us praise\, serve\, and love together.
URL:https://ancientpathrevivals.com/event/downtown-springfield-outreach-worship/
LOCATION:Park Central Square\, 429 N Boonville Ave\, Springfield\, Missouri\, 65806\, United States
CATEGORIES:Outreach
ATTACH;FMTTYPE=image/jpeg:https://ancientpathrevivals.com/wp-content/uploads/2025/11/IMG_4053-edited-scaled.jpg
END:VEVENT
BEGIN:VEVENT
DTSTART;TZID=America/Chicago:20251006T100000
DTEND;TZID=America/Chicago:20251016T110000
DTSTAMP:20260421T153703
CREATED:20250801T231746Z
LAST-MODIFIED:20251006T053434Z
UID:2471-1759744800-1760612400@ancientpathrevivals.com
SUMMARY:Sukkot // Feast of Tabernacles 2025
DESCRIPTION:Celebrate Sukkot With Us\n\n\n\nThis fall\, we are excited to gather in Macomb\, Missouri for the Feast of Sukkot (Tabernacles)\, and for the very first time\, we will be celebrating on the land YHWH has entrusted to us. It is such a blessing to welcome the body of Messiah here\, and we look forward to rejoicing before Him together during this appointed time. Camping check-in will begin October 6 with check-out being on October 16th. Sukkot will be celebrated from the evening of Oct 7th until the evening of Oct 15th. Sabbaths: Evening of Oct 7th until the evening of Oct 8th. Evening of the 14th until the evening of the 15th. \n\n\n\nAs this is our first feast on the property\, we are still in the process of preparing the space. At present\, RV hookups are limited\, but we are working diligently to add more before October. We are also building a new bath and shower house for everyone’s comfort and convenience. Please join us in prayer for wisdom\, provision\, and a smooth completion of these projects before the feast begins. \n\n\n\nOur heart is that no one should miss the feast days because of financial need. If you are unable to afford a ticket\, complimentary tickets are available. If you are able\, we kindly encourage a small donation in place of a ticket to help with shared expenses such as food. You’ll find preset donation amounts during the ticket process\, and those who would like to give a custom amount can do so through the donation links below. \n\n\n\nTo make the celebration even more special\, Sukkot T-shirts are available for pre-order below through Sanctified Supply Co and will be ready for pickup when you check in at the event. \n\n\n\nAll attendees must pre-register. \n\n\n  \n\n\n\n 
URL:https://ancientpathrevivals.com/event/sukkot-feast-of-tabernacles-2025/
LOCATION:Ancient Path Fellowship\, 4099 Cravens Dr\, Macomb\, Missouri\, 65702\, United States
CATEGORIES:YHWH's Feast Days
ATTACH;FMTTYPE=image/png:https://ancientpathrevivals.com/wp-content/uploads/2025/08/Thumbnails-POTV-1200-x-628-px.png
END:VEVENT
BEGIN:VEVENT
DTSTART;TZID=America/Chicago:20250912T120000
DTEND;TZID=America/Chicago:20250912T210000
DTSTAMP:20260421T153703
CREATED:20250903T163635Z
LAST-MODIFIED:20250903T163636Z
UID:2912-1757678400-1757710800@ancientpathrevivals.com
SUMMARY:Homeless Outreach Hip-Hop Event
DESCRIPTION:Join us for a powerful day of Hip Hop dedicated to YHWH! This free concert is open to everyone\, and we invite our community to come together in worship\, music\, and love. \n\n\n\nWe will also be collecting donations to bless those in need through our homeless outreach program. Items most needed include: \n\n\n\n\nBackpacks\n\n\n\nHygiene products\n\n\n\nSleeping bags & blankets\n\n\n\nReady-to-eat snacks and food items\n\n\n\n\nBring a friend\, bring your voice\, and if you’re able\, bring a donation to help us serve our homeless neighbors. Let’s shine the light of YHWH together!
URL:https://ancientpathrevivals.com/event/homeless-outreach-hip-hop-event/
LOCATION:Park Central Square\, 429 N Boonville Ave\, Springfield\, Missouri\, 65806\, United States
CATEGORIES:Outreach
ATTACH;FMTTYPE=image/jpeg:https://ancientpathrevivals.com/wp-content/uploads/2025/09/IMG_3677.jpg
ORGANIZER;CN="Ancient Path Outreach":MAILTO:outreach@ancientpathrevivals.com
END:VEVENT
BEGIN:VEVENT
DTSTART;TZID=America/Chicago:20250907T120000
DTEND;TZID=America/Chicago:20250907T210000
DTSTAMP:20260421T153703
CREATED:20250903T162550Z
LAST-MODIFIED:20250903T162551Z
UID:2908-1757246400-1757278800@ancientpathrevivals.com
SUMMARY:Community Worship Day
DESCRIPTION:Join us for a day of family fun\, worship\, and fellowship!Enjoy a full day together with music\, food\, and community. Food will be available for purchase\, and you’ll be blessed by worship from Left and Right Ministries and friends. Local vendors will also be set up throughout the day.
URL:https://ancientpathrevivals.com/event/community-worship-day/
LOCATION:Ancient Path Fellowship\, 4099 Cravens Dr\, Macomb\, Missouri\, 65702\, United States
ATTACH;FMTTYPE=image/jpeg:https://ancientpathrevivals.com/wp-content/uploads/2025/09/IMG_2627-2.jpg
ORGANIZER;CN="Ancient Path Outreach":MAILTO:outreach@ancientpathrevivals.com
END:VEVENT
END:VCALENDAR